BEGIN:VCALENDAR
VERSION:2.0
PRODID:-//Sara Hickman - ECPv6.15.17.1//NONSGML v1.0//EN
CALSCALE:GREGORIAN
METHOD:PUBLISH
X-WR-CALNAME:Sara Hickman
X-ORIGINAL-URL:https://www.sarahickman.com
X-WR-CALDESC:Events for Sara Hickman
REFRESH-INTERVAL;VALUE=DURATION:PT1H
X-Robots-Tag:noindex
X-PUBLISHED-TTL:PT1H
BEGIN:VTIMEZONE
TZID:America/Chicago
BEGIN:DAYLIGHT
TZOFFSETFROM:-0600
TZOFFSETTO:-0500
TZNAME:CDT
DTSTART:20200308T080000
END:DAYLIGHT
BEGIN:STANDARD
TZOFFSETFROM:-0500
TZOFFSETTO:-0600
TZNAME:CST
DTSTART:20201101T070000
END:STANDARD
BEGIN:DAYLIGHT
TZOFFSETFROM:-0600
TZOFFSETTO:-0500
TZNAME:CDT
DTSTART:20210314T080000
END:DAYLIGHT
BEGIN:STANDARD
TZOFFSETFROM:-0500
TZOFFSETTO:-0600
TZNAME:CST
DTSTART:20211107T070000
END:STANDARD
BEGIN:DAYLIGHT
TZOFFSETFROM:-0600
TZOFFSETTO:-0500
TZNAME:CDT
DTSTART:20220313T080000
END:DAYLIGHT
BEGIN:STANDARD
TZOFFSETFROM:-0500
TZOFFSETTO:-0600
TZNAME:CST
DTSTART:20221106T070000
END:STANDARD
BEGIN:DAYLIGHT
TZOFFSETFROM:-0600
TZOFFSETTO:-0500
TZNAME:CDT
DTSTART:20230312T080000
END:DAYLIGHT
BEGIN:STANDARD
TZOFFSETFROM:-0500
TZOFFSETTO:-0600
TZNAME:CST
DTSTART:20231105T070000
END:STANDARD
END:VTIMEZONE
BEGIN:VEVENT
DTSTART;TZID=America/Chicago:20220606T190000
DTEND;TZID=America/Chicago:20220606T210000
DTSTAMP:20260422T172803
CREATED:20220504T204106Z
LAST-MODIFIED:20220504T204126Z
UID:6376-1654542000-1654549200@www.sarahickman.com
SUMMARY:The 50th Kerrville Folk Festival
DESCRIPTION:Sara and her band\, The #5 Machine\, will perform at the 50th Kerrville Folk Festival.
URL:https://www.sarahickman.com/show/6376/
LOCATION:Kerrville Folk Festival\, 3876 Medina Hwy\, Kerrville\, Texas\, 78028
ATTACH;FMTTYPE=image/jpeg:https://www.sarahickman.com/wp-content/uploads/2022/05/header50thKFF2.jpg
END:VEVENT
BEGIN:VEVENT
DTSTART;TZID=America/Chicago:20220524T190000
DTEND;TZID=America/Chicago:20220524T200000
DTSTAMP:20260422T172803
CREATED:20220504T203331Z
LAST-MODIFIED:20220504T203404Z
UID:6370-1653418800-1653422400@www.sarahickman.com
SUMMARY:McGonigel's Mucky Duck
DESCRIPTION:Join Sara at the Mucky Duck — or watch live online with a virtual ticket!
URL:https://www.sarahickman.com/show/6370/
LOCATION:McGonigel’s Mucky Duck\, 2425 Norfolk St\, Houston\, TX\, 77098
ATTACH;FMTTYPE=image/png:https://www.sarahickman.com/wp-content/uploads/2022/05/MuckyDuck.png
END:VEVENT
BEGIN:VEVENT
DTSTART;TZID=America/Chicago:20220521T193000
DTEND;TZID=America/Chicago:20220521T220000
DTSTAMP:20260422T172803
CREATED:20220504T203021Z
LAST-MODIFIED:20220504T203046Z
UID:6366-1653161400-1653170400@www.sarahickman.com
SUMMARY:Songbird Live
DESCRIPTION:Join Sara in Cleburne\, Texas!
URL:https://www.sarahickman.com/show/songbird-live/
LOCATION:Songbird Live\, 210 E. Henderson Street\, Cleburne\, TX\, 76031
ATTACH;FMTTYPE=image/png:https://www.sarahickman.com/wp-content/uploads/2022/05/Songbird-Stage-Banner.png
END:VEVENT
BEGIN:VEVENT
DTSTART;TZID=America/Chicago:20220517T200000
DTEND;TZID=America/Chicago:20220517T233000
DTSTAMP:20260422T172803
CREATED:20220506T150154Z
LAST-MODIFIED:20220506T150154Z
UID:6401-1652817600-1652830200@www.sarahickman.com
SUMMARY:“Williams Nite” Tribute to music of Hank & Lucinda Williams
DESCRIPTION:It’s a tribute to the music of Hank & Lucinda Williams! Williams Nite is a “kinda annual” tribute to the music of Hank and Lucinda Williams. Artists play one song from each Williams plus one of their own. Artists include\, Sara Hickman\, Patrice Pike\, Warren Hood\, Sarah Sharp\, Monte Warden and many more! Proceeds benefit The SIMS Foundation.
URL:https://www.sarahickman.com/show/williams-nite-tribute-to-music-of-hank-lucinda-williams/
LOCATION:Saxon Pub\, 1320 S Lamar Blvd\, Austin\, TX\, 78704
END:VEVENT
BEGIN:VEVENT
DTSTART;VALUE=DATE:20220429
DTEND;VALUE=DATE:20220501
DTSTAMP:20260422T172803
CREATED:20220504T205324Z
LAST-MODIFIED:20220504T205340Z
UID:6388-1651201200-1651287599@www.sarahickman.com
SUMMARY:Lark & Owl Booksellers
DESCRIPTION:Dive into a good book — but first\, see Sara!
URL:https://www.sarahickman.com/show/6388/
LOCATION:Lark & Owl Booksellers\, 205 W. 6th Street\, Georgetown\, Texas\, 78626
ATTACH;FMTTYPE=image/png:https://www.sarahickman.com/wp-content/uploads/2022/05/LarkFooterLogo.png
END:VEVENT
BEGIN:VEVENT
DTSTART;VALUE=DATE:20220423
DTEND;VALUE=DATE:20220425
DTSTAMP:20260422T172803
CREATED:20220504T205822Z
LAST-MODIFIED:20220504T205839Z
UID:6390-1650682800-1650769199@www.sarahickman.com
SUMMARY:Galveston Railroad Museum
DESCRIPTION:All aboard! Hitch a ride with Sara at the Galveston Railroad Museum in Galveston\, Texas.
URL:https://www.sarahickman.com/show/6390/
LOCATION:Galveston Railroad Museum\, 123 25th Street\, Galveston\, Texas\, 77550
ATTACH;FMTTYPE=image/jpeg:https://www.sarahickman.com/wp-content/uploads/2022/05/GalvestonRRlogo.jpeg
END:VEVENT
BEGIN:VEVENT
DTSTART;VALUE=DATE:20220409
DTEND;VALUE=DATE:20220411
DTSTAMP:20260422T172803
CREATED:20220504T210255Z
LAST-MODIFIED:20220504T210255Z
UID:6395-1649473200-1649559599@www.sarahickman.com
SUMMARY:Music at the Mansion
DESCRIPTION:Enjoy music with Sara at the historic Schreiner Mansion in Kerrville.
URL:https://www.sarahickman.com/show/music-at-the-mansion/
LOCATION:Schreiner Mansion\, 226 Earl Garrett St\, Kerrville\, Texas\, 78028
ATTACH;FMTTYPE=image/png:https://www.sarahickman.com/wp-content/uploads/2022/05/schreiner-mansion-events-center-logo-bw.png
END:VEVENT
BEGIN:VEVENT
DTSTART;TZID=America/Chicago:20220304T200000
DTEND;TZID=America/Chicago:20220304T223000
DTSTAMP:20260422T172803
CREATED:20220504T201909Z
LAST-MODIFIED:20220504T202253Z
UID:6360-1646424000-1646433000@www.sarahickman.com
SUMMARY:04 Center Austin
DESCRIPTION:Sara performs with her band\, The #5 Machine!
URL:https://www.sarahickman.com/show/6360/
LOCATION:04 Center\, 2701 South Lamar\, Austin\, Texas\, 78704
ATTACH;FMTTYPE=image/jpeg:https://www.sarahickman.com/wp-content/uploads/2022/05/9E001613-0511-4164-882F-5D84A20DB7AA.jpg
END:VEVENT
BEGIN:VEVENT
DTSTART;TZID=America/Chicago:20220212T200000
DTEND;TZID=America/Chicago:20220212T230000
DTSTAMP:20260422T172803
CREATED:20220504T201204Z
LAST-MODIFIED:20220504T201315Z
UID:6351-1644696000-1644706800@www.sarahickman.com
SUMMARY:The Bugle Boy
DESCRIPTION:Join Sara and her band\, The #5 Machine!
URL:https://www.sarahickman.com/show/6351/
LOCATION:Bugle Boy\, 1051 N. Jefferson St.\, La Grange\, TX\, 78945
ATTACH;FMTTYPE=image/png:https://www.sarahickman.com/wp-content/uploads/2022/05/BBLogo2021.png
END:VEVENT
BEGIN:VEVENT
DTSTART;TZID=America/Chicago:20220127T200000
DTEND;TZID=America/Chicago:20220127T200000
DTSTAMP:20260422T172803
CREATED:20220506T150726Z
LAST-MODIFIED:20220506T150726Z
UID:6410-1643313600-1643313600@www.sarahickman.com
SUMMARY:Kessler Theater
DESCRIPTION: 
URL:https://www.sarahickman.com/show/kessler-theater/
LOCATION:Kessler Theater\, 1230 W Davis St\, Dallas\, TX\, 75208
END:VEVENT
BEGIN:VEVENT
DTSTART;TZID=America/Chicago:20211211T193000
DTEND;TZID=America/Chicago:20211211T220000
DTSTAMP:20260422T172803
CREATED:20220504T201728Z
LAST-MODIFIED:20220504T201754Z
UID:6356-1639251000-1639260000@www.sarahickman.com
SUMMARY:Poor David's Pub
DESCRIPTION:
URL:https://www.sarahickman.com/show/6356/
LOCATION:Poor David’s Pub\, 1313 Botham Jean Blvd\, Dallas\, Texas\, 75215
ATTACH;FMTTYPE=image/jpeg:https://www.sarahickman.com/wp-content/uploads/2022/05/new_front2.jpg
END:VEVENT
BEGIN:VEVENT
DTSTART;TZID=America/Chicago:20211204T210000
DTEND;TZID=America/Chicago:20211204T233000
DTSTAMP:20260422T172803
CREATED:20220504T200817Z
LAST-MODIFIED:20220504T200940Z
UID:6346-1638651600-1638660600@www.sarahickman.com
SUMMARY:McGonigel's Mucky Duck
DESCRIPTION:With her band\, The #5 Machine
URL:https://www.sarahickman.com/show/6346/
LOCATION:McGonigel’s Mucky Duck\, 2425 Norfolk St\, Houston\, TX\, 77098
ATTACH;FMTTYPE=image/png:https://www.sarahickman.com/wp-content/uploads/2022/05/MuckyDuck.png
END:VEVENT
BEGIN:VEVENT
DTSTART;TZID=America/Chicago:20211106T200000
DTEND;TZID=America/Chicago:20211106T230000
DTSTAMP:20260422T172803
CREATED:20220504T200311Z
LAST-MODIFIED:20220504T200339Z
UID:6342-1636228800-1636239600@www.sarahickman.com
SUMMARY:Autumn at the Odeon
DESCRIPTION:Join Sara and her band\, The #5 Machine\, at the historic Odeon Theater in Mason\, Texas!
URL:https://www.sarahickman.com/show/autumn-at-the-odeon/
LOCATION:Odeon Theater\, 122 Moody Street\, Mason\, TX\, 76856\, United States
ATTACH;FMTTYPE=image/png:https://www.sarahickman.com/wp-content/uploads/2022/05/bnr-the-odeon-theater.png
END:VEVENT
END:VCALENDAR