BEGIN:VCALENDAR
VERSION:2.0
PRODID:-//Sara Hickman - ECPv6.15.17.1//NONSGML v1.0//EN
CALSCALE:GREGORIAN
METHOD:PUBLISH
X-WR-CALNAME:Sara Hickman
X-ORIGINAL-URL:https://www.sarahickman.com
X-WR-CALDESC:Events for Sara Hickman
REFRESH-INTERVAL;VALUE=DURATION:PT1H
X-Robots-Tag:noindex
X-PUBLISHED-TTL:PT1H
BEGIN:VTIMEZONE
TZID:America/Chicago
BEGIN:DAYLIGHT
TZOFFSETFROM:-0600
TZOFFSETTO:-0500
TZNAME:CDT
DTSTART:20220313T080000
END:DAYLIGHT
BEGIN:STANDARD
TZOFFSETFROM:-0500
TZOFFSETTO:-0600
TZNAME:CST
DTSTART:20221106T070000
END:STANDARD
BEGIN:DAYLIGHT
TZOFFSETFROM:-0600
TZOFFSETTO:-0500
TZNAME:CDT
DTSTART:20230312T080000
END:DAYLIGHT
BEGIN:STANDARD
TZOFFSETFROM:-0500
TZOFFSETTO:-0600
TZNAME:CST
DTSTART:20231105T070000
END:STANDARD
BEGIN:DAYLIGHT
TZOFFSETFROM:-0600
TZOFFSETTO:-0500
TZNAME:CDT
DTSTART:20240310T080000
END:DAYLIGHT
BEGIN:STANDARD
TZOFFSETFROM:-0500
TZOFFSETTO:-0600
TZNAME:CST
DTSTART:20241103T070000
END:STANDARD
END:VTIMEZONE
BEGIN:VEVENT
DTSTART;TZID=America/Chicago:20230113T193000
DTEND;TZID=America/Chicago:20230113T213000
DTSTAMP:20260422T172803
CREATED:20221221T175958Z
LAST-MODIFIED:20221221T175958Z
UID:6881-1673638200-1673645400@www.sarahickman.com
SUMMARY:Rockport Center for the Arts
DESCRIPTION:The first show of the New Year is in Rockport\, TX!!\nFri. 13th at 7:30pm with my band The #5 Machine\nIn celebration of the brand new Rockport Conf. Center\nGet your tickets now!
URL:https://www.sarahickman.com/show/rockport-center-for-the-arts/
LOCATION:Rockport Center for the Arts\, 204 S Austin St\, Rockport\, TX\, 78382\, United States
ATTACH;FMTTYPE=image/jpeg:https://www.sarahickman.com/wp-content/uploads/2018/04/red_Sara_face-homepage.jpg
END:VEVENT
BEGIN:VEVENT
DTSTART;TZID=America/Chicago:20230129T150000
DTEND;TZID=America/Chicago:20230129T170000
DTSTAMP:20260422T172803
CREATED:20230104T215725Z
LAST-MODIFIED:20230104T215725Z
UID:6886-1675004400-1675011600@www.sarahickman.com
SUMMARY:Harmony House Concert
DESCRIPTION:It’s been some time since Sara has played this lovely house concert series\, so we’re excited to announce this show. If you are already familiar with going to these shows\, you know that it’s a bit unusual to get seats. We’ll post an update as soon as we have more info to share with you.
URL:https://www.sarahickman.com/show/harmony-house-concert/
LOCATION:TX
ATTACH;FMTTYPE=image/jpeg:https://www.sarahickman.com/wp-content/uploads/2022/06/card-shows.jpg
END:VEVENT
BEGIN:VEVENT
DTSTART;TZID=America/Chicago:20230211T190000
DTEND;TZID=America/Chicago:20230211T210000
DTSTAMP:20260422T172803
CREATED:20230104T220922Z
LAST-MODIFIED:20230104T220922Z
UID:6889-1676142000-1676149200@www.sarahickman.com
SUMMARY:Open Door Coffee House
DESCRIPTION:It’s been so long since Sara played at the Open Door the venue has changed locations! So you know you MUST get back to Sara with her band\, The #5 Machine. And to make it even better the show will be benefitting Mission Arlington.
URL:https://www.sarahickman.com/show/open-door-coffee-house/
LOCATION:Open Door Coffee House\, 4600 Highwood Drive\, Arlington\, TX\, 76017\, United States
ATTACH;FMTTYPE=image/jpeg:https://www.sarahickman.com/wp-content/uploads/2022/09/Sara-promo6-scaled.jpg
END:VEVENT
BEGIN:VEVENT
DTSTART;TZID=America/Chicago:20230304T200000
DTEND;TZID=America/Chicago:20230304T220000
DTSTAMP:20260422T172803
CREATED:20230131T170219Z
LAST-MODIFIED:20230131T170219Z
UID:6894-1677960000-1677967200@www.sarahickman.com
SUMMARY:Sara Hickman's 60th B-Day Bash with special guests Monte Warden & Colin Boyd
DESCRIPTION:Yes! it’s Sara Hickman’s 60th B-Day Bash with special guests Monte Warden & Colin Boyd performing as The Nauer-Neverly Brothers. You KNOW it’s going to be a great night\, so get your tickets right away!
URL:https://www.sarahickman.com/show/sara-hickmans-60th-b-day-bash-with-special-guests-monte-warden-colin-boyd/
LOCATION:04 Center\, 2701 South Lamar\, Austin\, Texas\, 78704
ATTACH;FMTTYPE=image/jpeg:https://www.sarahickman.com/wp-content/uploads/2022/09/Sara-promo2-scaled.jpg
END:VEVENT
BEGIN:VEVENT
DTSTART;TZID=America/Chicago:20230310T190000
DTEND;TZID=America/Chicago:20230310T203000
DTSTAMP:20260422T172803
CREATED:20230221T220109Z
LAST-MODIFIED:20230221T220109Z
UID:6903-1678474800-1678480200@www.sarahickman.com
SUMMARY:McGonigel's Mucky Duck
DESCRIPTION:This is a last minute chance to see Sara at The Duck! Sometimes things move quick and you just gotta say “what the heck!” \nGrab you tickets NOW!
URL:https://www.sarahickman.com/show/mcgonigels-mucky-duck/
LOCATION:McGonigel’s Mucky Duck\, 2425 Norfolk St\, Houston\, TX\, 77098
ATTACH;FMTTYPE=image/png:https://www.sarahickman.com/wp-content/uploads/2022/05/MuckyDuck.png
END:VEVENT
BEGIN:VEVENT
DTSTART;TZID=America/Chicago:20230311T200000
DTEND;TZID=America/Chicago:20230311T220000
DTSTAMP:20260422T172803
CREATED:20230131T170626Z
LAST-MODIFIED:20230131T170626Z
UID:6896-1678564800-1678572000@www.sarahickman.com
SUMMARY:The Bugle Boy
DESCRIPTION:It’s a year since Sara has been back at The Bugle Boy\, so you don’t want to miss it again! Get your tickets while they last!
URL:https://www.sarahickman.com/show/the-bugle-boy/
LOCATION:Bugle Boy\, 1051 N. Jefferson St.\, La Grange\, TX\, 78945
ATTACH;FMTTYPE=image/png:https://www.sarahickman.com/wp-content/uploads/2022/05/BBLogo2021.png
END:VEVENT
BEGIN:VEVENT
DTSTART;TZID=America/Chicago:20230426T180000
DTEND;TZID=America/Chicago:20230426T200000
DTSTAMP:20260422T172803
CREATED:20230412T180501Z
LAST-MODIFIED:20230412T180501Z
UID:6909-1682532000-1682539200@www.sarahickman.com
SUMMARY:Sun Radio Live @ Güero's
DESCRIPTION:Sara and The #5 Machine will be performing outside at Güero’s patio AND live on Sun Radio! It’s a Kerrville Folk Festival Takeover also featuring Madam Radar\, Ray Bonneville. The event starts at 6pm with Ray kicking things off. Sara comes on at 6:45pm
URL:https://www.sarahickman.com/show/sun-radio-live-gueros/
LOCATION:Güero’s Taco Bar\, 1412 S Congress Ave\, Austin\, TX 78704\, Austin\, TX\, 78704\, United States
ATTACH;FMTTYPE=image/jpeg:https://www.sarahickman.com/wp-content/uploads/2023/04/sara-hickman-death.jpg
END:VEVENT
BEGIN:VEVENT
DTSTART;TZID=America/Chicago:20230429T120000
DTEND;TZID=America/Chicago:20230429T140000
DTSTAMP:20260422T172803
CREATED:20230412T181206Z
LAST-MODIFIED:20230412T181206Z
UID:6915-1682769600-1682776800@www.sarahickman.com
SUMMARY:The Grand Kids Festival in Galveston
DESCRIPTION:Sara will entertain the kids at noon AND 1:30pm! Come on out for a wonderful day with the whole family!  And it’s all FREE!!
URL:https://www.sarahickman.com/show/the-grand-kids-festival-in-galveston/
LOCATION:TX
ATTACH;FMTTYPE=image/jpeg:https://www.sarahickman.com/wp-content/uploads/2018/04/smiling-mural.jpg
END:VEVENT
BEGIN:VEVENT
DTSTART;TZID=America/Chicago:20230609T200000
DTEND;TZID=America/Chicago:20230609T230000
DTSTAMP:20260422T172803
CREATED:20230412T181604Z
LAST-MODIFIED:20230412T181604Z
UID:6917-1686340800-1686351600@www.sarahickman.com
SUMMARY:The Kessler Theater
DESCRIPTION:I’ll be performing with my band The #5 Machine. Open the night is special guest Sarah Johnson
URL:https://www.sarahickman.com/show/the-kessler-theater/
LOCATION:Kessler Theater\, 1230 W Davis St\, Dallas\, TX\, 75208
ATTACH;FMTTYPE=image/jpeg:https://www.sarahickman.com/wp-content/uploads/2022/09/Shine-cover-no-text.jpg
END:VEVENT
BEGIN:VEVENT
DTSTART;TZID=America/Chicago:20230914T190000
DTEND;TZID=America/Chicago:20230914T210000
DTSTAMP:20260422T172803
CREATED:20230412T182826Z
LAST-MODIFIED:20230412T182826Z
UID:6919-1694718000-1694725200@www.sarahickman.com
SUMMARY:Coffee House Live @ St. Andrew's
DESCRIPTION:It’s been since before COVID\, but Sara is coming back for a solo performance! No cover charge. Donations welcomed: helps with our cost of artist\, refreshments\, facility — but not required. Open to all. All ages. Doors Free coffee and snacks. Park in lots at intersection of Bissonnet @ Rutgers. Overflow parking available across Bissonnet in the ABC-13 KTRK-TV lot.
URL:https://www.sarahickman.com/show/coffee-house-live-st-andrews/
LOCATION:Coffee House Live @ St. Andrew’s\, 5308 Buffalo Speedway\, Houston\, TX\, 77005\, United States
ATTACH;FMTTYPE=image/jpeg:https://www.sarahickman.com/wp-content/uploads/2022/09/Sara-promo2-scaled.jpg
END:VEVENT
END:VCALENDAR